BEGIN:VCALENDAR
VERSION:2.0
PRODID:-//Club Musgrave - ECPv6.15.20//NONSGML v1.0//EN
CALSCALE:GREGORIAN
METHOD:PUBLISH
X-WR-CALNAME:Club Musgrave
X-ORIGINAL-URL:https://clubmusgrave.com
X-WR-CALDESC:Events for Club Musgrave
REFRESH-INTERVAL;VALUE=DURATION:PT1H
X-Robots-Tag:noindex
X-PUBLISHED-TTL:PT1H
BEGIN:VTIMEZONE
TZID:Australia/Melbourne
BEGIN:STANDARD
TZOFFSETFROM:+1100
TZOFFSETTO:+1000
TZNAME:AEST
DTSTART:20250405T160000
END:STANDARD
BEGIN:DAYLIGHT
TZOFFSETFROM:+1000
TZOFFSETTO:+1100
TZNAME:AEDT
DTSTART:20251004T160000
END:DAYLIGHT
BEGIN:STANDARD
TZOFFSETFROM:+1100
TZOFFSETTO:+1000
TZNAME:AEST
DTSTART:20260404T160000
END:STANDARD
BEGIN:DAYLIGHT
TZOFFSETFROM:+1000
TZOFFSETTO:+1100
TZNAME:AEDT
DTSTART:20261003T160000
END:DAYLIGHT
BEGIN:STANDARD
TZOFFSETFROM:+1100
TZOFFSETTO:+1000
TZNAME:AEST
DTSTART:20270403T160000
END:STANDARD
BEGIN:DAYLIGHT
TZOFFSETFROM:+1000
TZOFFSETTO:+1100
TZNAME:AEDT
DTSTART:20271002T160000
END:DAYLIGHT
END:VTIMEZONE
BEGIN:VEVENT
DTSTART;TZID=Australia/Melbourne:20260425T170000
DTEND;TZID=Australia/Melbourne:20260425T170000
DTSTAMP:20260420T094807
CREATED:20240710T231050Z
LAST-MODIFIED:20250513T052913Z
UID:10026828-1777136400-1777136400@clubmusgrave.com
SUMMARY:$18 Parmys & Schnitzels
DESCRIPTION:
URL:https://clubmusgrave.com/event/tuesday-17-parmis-schnitzels/2026-04-25/
CATEGORIES:Food Specials
ATTACH;FMTTYPE=image/png:https://clubmusgrave.com/wp-content/uploads/2025/05/Sun-Thurs-Specials_PARMY-SNITCH.png
END:VEVENT
BEGIN:VEVENT
DTSTART;TZID=Australia/Melbourne:20260502T170000
DTEND;TZID=Australia/Melbourne:20260502T170000
DTSTAMP:20260420T094807
CREATED:20240710T231050Z
LAST-MODIFIED:20250513T052913Z
UID:10026829-1777741200-1777741200@clubmusgrave.com
SUMMARY:$18 Parmys & Schnitzels
DESCRIPTION:
URL:https://clubmusgrave.com/event/tuesday-17-parmis-schnitzels/2026-05-02/
CATEGORIES:Food Specials
ATTACH;FMTTYPE=image/png:https://clubmusgrave.com/wp-content/uploads/2025/05/Sun-Thurs-Specials_PARMY-SNITCH.png
END:VEVENT
BEGIN:VEVENT
DTSTART;TZID=Australia/Melbourne:20260509T170000
DTEND;TZID=Australia/Melbourne:20260509T170000
DTSTAMP:20260420T094807
CREATED:20240710T231050Z
LAST-MODIFIED:20250513T052913Z
UID:10026830-1778346000-1778346000@clubmusgrave.com
SUMMARY:$18 Parmys & Schnitzels
DESCRIPTION:
URL:https://clubmusgrave.com/event/tuesday-17-parmis-schnitzels/2026-05-09/
CATEGORIES:Food Specials
ATTACH;FMTTYPE=image/png:https://clubmusgrave.com/wp-content/uploads/2025/05/Sun-Thurs-Specials_PARMY-SNITCH.png
END:VEVENT
BEGIN:VEVENT
DTSTART;TZID=Australia/Melbourne:20260516T170000
DTEND;TZID=Australia/Melbourne:20260516T170000
DTSTAMP:20260420T094807
CREATED:20240710T231050Z
LAST-MODIFIED:20250513T052913Z
UID:10026831-1778950800-1778950800@clubmusgrave.com
SUMMARY:$18 Parmys & Schnitzels
DESCRIPTION:
URL:https://clubmusgrave.com/event/tuesday-17-parmis-schnitzels/2026-05-16/
CATEGORIES:Food Specials
ATTACH;FMTTYPE=image/png:https://clubmusgrave.com/wp-content/uploads/2025/05/Sun-Thurs-Specials_PARMY-SNITCH.png
END:VEVENT
BEGIN:VEVENT
DTSTART;TZID=Australia/Melbourne:20260523T170000
DTEND;TZID=Australia/Melbourne:20260523T170000
DTSTAMP:20260420T094807
CREATED:20240710T231050Z
LAST-MODIFIED:20250513T052913Z
UID:10026832-1779555600-1779555600@clubmusgrave.com
SUMMARY:$18 Parmys & Schnitzels
DESCRIPTION:
URL:https://clubmusgrave.com/event/tuesday-17-parmis-schnitzels/2026-05-23/
CATEGORIES:Food Specials
ATTACH;FMTTYPE=image/png:https://clubmusgrave.com/wp-content/uploads/2025/05/Sun-Thurs-Specials_PARMY-SNITCH.png
END:VEVENT
BEGIN:VEVENT
DTSTART;TZID=Australia/Melbourne:20260530T170000
DTEND;TZID=Australia/Melbourne:20260530T170000
DTSTAMP:20260420T094807
CREATED:20240710T231050Z
LAST-MODIFIED:20250513T052913Z
UID:10026833-1780160400-1780160400@clubmusgrave.com
SUMMARY:$18 Parmys & Schnitzels
DESCRIPTION:
URL:https://clubmusgrave.com/event/tuesday-17-parmis-schnitzels/2026-05-30/
CATEGORIES:Food Specials
ATTACH;FMTTYPE=image/png:https://clubmusgrave.com/wp-content/uploads/2025/05/Sun-Thurs-Specials_PARMY-SNITCH.png
END:VEVENT
BEGIN:VEVENT
DTSTART;TZID=Australia/Melbourne:20260606T170000
DTEND;TZID=Australia/Melbourne:20260606T170000
DTSTAMP:20260420T094807
CREATED:20240710T231050Z
LAST-MODIFIED:20250513T052913Z
UID:10026834-1780765200-1780765200@clubmusgrave.com
SUMMARY:$18 Parmys & Schnitzels
DESCRIPTION:
URL:https://clubmusgrave.com/event/tuesday-17-parmis-schnitzels/2026-06-06/
CATEGORIES:Food Specials
ATTACH;FMTTYPE=image/png:https://clubmusgrave.com/wp-content/uploads/2025/05/Sun-Thurs-Specials_PARMY-SNITCH.png
END:VEVENT
BEGIN:VEVENT
DTSTART;TZID=Australia/Melbourne:20260613T170000
DTEND;TZID=Australia/Melbourne:20260613T170000
DTSTAMP:20260420T094807
CREATED:20240710T231050Z
LAST-MODIFIED:20250513T052913Z
UID:10026835-1781370000-1781370000@clubmusgrave.com
SUMMARY:$18 Parmys & Schnitzels
DESCRIPTION:
URL:https://clubmusgrave.com/event/tuesday-17-parmis-schnitzels/2026-06-13/
CATEGORIES:Food Specials
ATTACH;FMTTYPE=image/png:https://clubmusgrave.com/wp-content/uploads/2025/05/Sun-Thurs-Specials_PARMY-SNITCH.png
END:VEVENT
BEGIN:VEVENT
DTSTART;TZID=Australia/Melbourne:20260620T170000
DTEND;TZID=Australia/Melbourne:20260620T170000
DTSTAMP:20260420T094807
CREATED:20240710T231050Z
LAST-MODIFIED:20250513T052913Z
UID:10026836-1781974800-1781974800@clubmusgrave.com
SUMMARY:$18 Parmys & Schnitzels
DESCRIPTION:
URL:https://clubmusgrave.com/event/tuesday-17-parmis-schnitzels/2026-06-20/
CATEGORIES:Food Specials
ATTACH;FMTTYPE=image/png:https://clubmusgrave.com/wp-content/uploads/2025/05/Sun-Thurs-Specials_PARMY-SNITCH.png
END:VEVENT
BEGIN:VEVENT
DTSTART;TZID=Australia/Melbourne:20260627T170000
DTEND;TZID=Australia/Melbourne:20260627T170000
DTSTAMP:20260420T094807
CREATED:20240710T231050Z
LAST-MODIFIED:20250513T052913Z
UID:10026837-1782579600-1782579600@clubmusgrave.com
SUMMARY:$18 Parmys & Schnitzels
DESCRIPTION:
URL:https://clubmusgrave.com/event/tuesday-17-parmis-schnitzels/2026-06-27/
CATEGORIES:Food Specials
ATTACH;FMTTYPE=image/png:https://clubmusgrave.com/wp-content/uploads/2025/05/Sun-Thurs-Specials_PARMY-SNITCH.png
END:VEVENT
BEGIN:VEVENT
DTSTART;TZID=Australia/Melbourne:20260704T170000
DTEND;TZID=Australia/Melbourne:20260704T170000
DTSTAMP:20260420T094807
CREATED:20240710T231050Z
LAST-MODIFIED:20250513T052913Z
UID:10026838-1783184400-1783184400@clubmusgrave.com
SUMMARY:$18 Parmys & Schnitzels
DESCRIPTION:
URL:https://clubmusgrave.com/event/tuesday-17-parmis-schnitzels/2026-07-04/
CATEGORIES:Food Specials
ATTACH;FMTTYPE=image/png:https://clubmusgrave.com/wp-content/uploads/2025/05/Sun-Thurs-Specials_PARMY-SNITCH.png
END:VEVENT
BEGIN:VEVENT
DTSTART;TZID=Australia/Melbourne:20260711T170000
DTEND;TZID=Australia/Melbourne:20260711T170000
DTSTAMP:20260420T094807
CREATED:20240710T231050Z
LAST-MODIFIED:20250513T052913Z
UID:10026839-1783789200-1783789200@clubmusgrave.com
SUMMARY:$18 Parmys & Schnitzels
DESCRIPTION:
URL:https://clubmusgrave.com/event/tuesday-17-parmis-schnitzels/2026-07-11/
CATEGORIES:Food Specials
ATTACH;FMTTYPE=image/png:https://clubmusgrave.com/wp-content/uploads/2025/05/Sun-Thurs-Specials_PARMY-SNITCH.png
END:VEVENT
BEGIN:VEVENT
DTSTART;TZID=Australia/Melbourne:20260718T170000
DTEND;TZID=Australia/Melbourne:20260718T170000
DTSTAMP:20260420T094807
CREATED:20240710T231050Z
LAST-MODIFIED:20250513T052913Z
UID:10026840-1784394000-1784394000@clubmusgrave.com
SUMMARY:$18 Parmys & Schnitzels
DESCRIPTION:
URL:https://clubmusgrave.com/event/tuesday-17-parmis-schnitzels/2026-07-18/
CATEGORIES:Food Specials
ATTACH;FMTTYPE=image/png:https://clubmusgrave.com/wp-content/uploads/2025/05/Sun-Thurs-Specials_PARMY-SNITCH.png
END:VEVENT
BEGIN:VEVENT
DTSTART;TZID=Australia/Melbourne:20260725T170000
DTEND;TZID=Australia/Melbourne:20260725T170000
DTSTAMP:20260420T094807
CREATED:20240710T231050Z
LAST-MODIFIED:20250513T052913Z
UID:10026841-1784998800-1784998800@clubmusgrave.com
SUMMARY:$18 Parmys & Schnitzels
DESCRIPTION:
URL:https://clubmusgrave.com/event/tuesday-17-parmis-schnitzels/2026-07-25/
CATEGORIES:Food Specials
ATTACH;FMTTYPE=image/png:https://clubmusgrave.com/wp-content/uploads/2025/05/Sun-Thurs-Specials_PARMY-SNITCH.png
END:VEVENT
BEGIN:VEVENT
DTSTART;TZID=Australia/Melbourne:20260801T170000
DTEND;TZID=Australia/Melbourne:20260801T170000
DTSTAMP:20260420T094807
CREATED:20240710T231050Z
LAST-MODIFIED:20250513T052913Z
UID:10026842-1785603600-1785603600@clubmusgrave.com
SUMMARY:$18 Parmys & Schnitzels
DESCRIPTION:
URL:https://clubmusgrave.com/event/tuesday-17-parmis-schnitzels/2026-08-01/
CATEGORIES:Food Specials
ATTACH;FMTTYPE=image/png:https://clubmusgrave.com/wp-content/uploads/2025/05/Sun-Thurs-Specials_PARMY-SNITCH.png
END:VEVENT
BEGIN:VEVENT
DTSTART;TZID=Australia/Melbourne:20260808T170000
DTEND;TZID=Australia/Melbourne:20260808T170000
DTSTAMP:20260420T094807
CREATED:20240710T231050Z
LAST-MODIFIED:20250513T052913Z
UID:10026843-1786208400-1786208400@clubmusgrave.com
SUMMARY:$18 Parmys & Schnitzels
DESCRIPTION:
URL:https://clubmusgrave.com/event/tuesday-17-parmis-schnitzels/2026-08-08/
CATEGORIES:Food Specials
ATTACH;FMTTYPE=image/png:https://clubmusgrave.com/wp-content/uploads/2025/05/Sun-Thurs-Specials_PARMY-SNITCH.png
END:VEVENT
BEGIN:VEVENT
DTSTART;TZID=Australia/Melbourne:20260815T170000
DTEND;TZID=Australia/Melbourne:20260815T170000
DTSTAMP:20260420T094807
CREATED:20240710T231050Z
LAST-MODIFIED:20250513T052913Z
UID:10026844-1786813200-1786813200@clubmusgrave.com
SUMMARY:$18 Parmys & Schnitzels
DESCRIPTION:
URL:https://clubmusgrave.com/event/tuesday-17-parmis-schnitzels/2026-08-15/
CATEGORIES:Food Specials
ATTACH;FMTTYPE=image/png:https://clubmusgrave.com/wp-content/uploads/2025/05/Sun-Thurs-Specials_PARMY-SNITCH.png
END:VEVENT
BEGIN:VEVENT
DTSTART;TZID=Australia/Melbourne:20260822T170000
DTEND;TZID=Australia/Melbourne:20260822T170000
DTSTAMP:20260420T094807
CREATED:20240710T231050Z
LAST-MODIFIED:20250513T052913Z
UID:10026845-1787418000-1787418000@clubmusgrave.com
SUMMARY:$18 Parmys & Schnitzels
DESCRIPTION:
URL:https://clubmusgrave.com/event/tuesday-17-parmis-schnitzels/2026-08-22/
CATEGORIES:Food Specials
ATTACH;FMTTYPE=image/png:https://clubmusgrave.com/wp-content/uploads/2025/05/Sun-Thurs-Specials_PARMY-SNITCH.png
END:VEVENT
BEGIN:VEVENT
DTSTART;TZID=Australia/Melbourne:20260829T170000
DTEND;TZID=Australia/Melbourne:20260829T170000
DTSTAMP:20260420T094807
CREATED:20240710T231050Z
LAST-MODIFIED:20250513T052913Z
UID:10026846-1788022800-1788022800@clubmusgrave.com
SUMMARY:$18 Parmys & Schnitzels
DESCRIPTION:
URL:https://clubmusgrave.com/event/tuesday-17-parmis-schnitzels/2026-08-29/
CATEGORIES:Food Specials
ATTACH;FMTTYPE=image/png:https://clubmusgrave.com/wp-content/uploads/2025/05/Sun-Thurs-Specials_PARMY-SNITCH.png
END:VEVENT
BEGIN:VEVENT
DTSTART;TZID=Australia/Melbourne:20260905T170000
DTEND;TZID=Australia/Melbourne:20260905T170000
DTSTAMP:20260420T094807
CREATED:20240710T231050Z
LAST-MODIFIED:20250513T052913Z
UID:10026847-1788627600-1788627600@clubmusgrave.com
SUMMARY:$18 Parmys & Schnitzels
DESCRIPTION:
URL:https://clubmusgrave.com/event/tuesday-17-parmis-schnitzels/2026-09-05/
CATEGORIES:Food Specials
ATTACH;FMTTYPE=image/png:https://clubmusgrave.com/wp-content/uploads/2025/05/Sun-Thurs-Specials_PARMY-SNITCH.png
END:VEVENT
BEGIN:VEVENT
DTSTART;TZID=Australia/Melbourne:20260912T170000
DTEND;TZID=Australia/Melbourne:20260912T170000
DTSTAMP:20260420T094807
CREATED:20240710T231050Z
LAST-MODIFIED:20250513T052913Z
UID:10026848-1789232400-1789232400@clubmusgrave.com
SUMMARY:$18 Parmys & Schnitzels
DESCRIPTION:
URL:https://clubmusgrave.com/event/tuesday-17-parmis-schnitzels/2026-09-12/
CATEGORIES:Food Specials
ATTACH;FMTTYPE=image/png:https://clubmusgrave.com/wp-content/uploads/2025/05/Sun-Thurs-Specials_PARMY-SNITCH.png
END:VEVENT
BEGIN:VEVENT
DTSTART;TZID=Australia/Melbourne:20260919T170000
DTEND;TZID=Australia/Melbourne:20260919T170000
DTSTAMP:20260420T094807
CREATED:20240710T231050Z
LAST-MODIFIED:20250513T052913Z
UID:10026849-1789837200-1789837200@clubmusgrave.com
SUMMARY:$18 Parmys & Schnitzels
DESCRIPTION:
URL:https://clubmusgrave.com/event/tuesday-17-parmis-schnitzels/2026-09-19/
CATEGORIES:Food Specials
ATTACH;FMTTYPE=image/png:https://clubmusgrave.com/wp-content/uploads/2025/05/Sun-Thurs-Specials_PARMY-SNITCH.png
END:VEVENT
BEGIN:VEVENT
DTSTART;TZID=Australia/Melbourne:20260926T170000
DTEND;TZID=Australia/Melbourne:20260926T170000
DTSTAMP:20260420T094807
CREATED:20240710T231050Z
LAST-MODIFIED:20250513T052913Z
UID:10026850-1790442000-1790442000@clubmusgrave.com
SUMMARY:$18 Parmys & Schnitzels
DESCRIPTION:
URL:https://clubmusgrave.com/event/tuesday-17-parmis-schnitzels/2026-09-26/
CATEGORIES:Food Specials
ATTACH;FMTTYPE=image/png:https://clubmusgrave.com/wp-content/uploads/2025/05/Sun-Thurs-Specials_PARMY-SNITCH.png
END:VEVENT
BEGIN:VEVENT
DTSTART;TZID=Australia/Melbourne:20261003T170000
DTEND;TZID=Australia/Melbourne:20261003T170000
DTSTAMP:20260420T094807
CREATED:20240710T231050Z
LAST-MODIFIED:20250513T052913Z
UID:10026851-1791046800-1791046800@clubmusgrave.com
SUMMARY:$18 Parmys & Schnitzels
DESCRIPTION:
URL:https://clubmusgrave.com/event/tuesday-17-parmis-schnitzels/2026-10-03/
CATEGORIES:Food Specials
ATTACH;FMTTYPE=image/png:https://clubmusgrave.com/wp-content/uploads/2025/05/Sun-Thurs-Specials_PARMY-SNITCH.png
END:VEVENT
BEGIN:VEVENT
DTSTART;TZID=Australia/Melbourne:20261010T170000
DTEND;TZID=Australia/Melbourne:20261010T170000
DTSTAMP:20260420T094807
CREATED:20240710T231050Z
LAST-MODIFIED:20250513T052913Z
UID:10026852-1791651600-1791651600@clubmusgrave.com
SUMMARY:$18 Parmys & Schnitzels
DESCRIPTION:
URL:https://clubmusgrave.com/event/tuesday-17-parmis-schnitzels/2026-10-10/
CATEGORIES:Food Specials
ATTACH;FMTTYPE=image/png:https://clubmusgrave.com/wp-content/uploads/2025/05/Sun-Thurs-Specials_PARMY-SNITCH.png
END:VEVENT
BEGIN:VEVENT
DTSTART;TZID=Australia/Melbourne:20261017T170000
DTEND;TZID=Australia/Melbourne:20261017T170000
DTSTAMP:20260420T094807
CREATED:20240710T231050Z
LAST-MODIFIED:20250513T052913Z
UID:10026853-1792256400-1792256400@clubmusgrave.com
SUMMARY:$18 Parmys & Schnitzels
DESCRIPTION:
URL:https://clubmusgrave.com/event/tuesday-17-parmis-schnitzels/2026-10-17/
CATEGORIES:Food Specials
ATTACH;FMTTYPE=image/png:https://clubmusgrave.com/wp-content/uploads/2025/05/Sun-Thurs-Specials_PARMY-SNITCH.png
END:VEVENT
BEGIN:VEVENT
DTSTART;TZID=Australia/Melbourne:20261024T170000
DTEND;TZID=Australia/Melbourne:20261024T170000
DTSTAMP:20260420T094807
CREATED:20240710T231050Z
LAST-MODIFIED:20250513T052913Z
UID:10026854-1792861200-1792861200@clubmusgrave.com
SUMMARY:$18 Parmys & Schnitzels
DESCRIPTION:
URL:https://clubmusgrave.com/event/tuesday-17-parmis-schnitzels/2026-10-24/
CATEGORIES:Food Specials
ATTACH;FMTTYPE=image/png:https://clubmusgrave.com/wp-content/uploads/2025/05/Sun-Thurs-Specials_PARMY-SNITCH.png
END:VEVENT
BEGIN:VEVENT
DTSTART;TZID=Australia/Melbourne:20261031T170000
DTEND;TZID=Australia/Melbourne:20261031T170000
DTSTAMP:20260420T094807
CREATED:20240710T231050Z
LAST-MODIFIED:20250513T052913Z
UID:10026855-1793466000-1793466000@clubmusgrave.com
SUMMARY:$18 Parmys & Schnitzels
DESCRIPTION:
URL:https://clubmusgrave.com/event/tuesday-17-parmis-schnitzels/2026-10-31/
CATEGORIES:Food Specials
ATTACH;FMTTYPE=image/png:https://clubmusgrave.com/wp-content/uploads/2025/05/Sun-Thurs-Specials_PARMY-SNITCH.png
END:VEVENT
BEGIN:VEVENT
DTSTART;TZID=Australia/Melbourne:20261107T170000
DTEND;TZID=Australia/Melbourne:20261107T170000
DTSTAMP:20260420T094807
CREATED:20240710T231050Z
LAST-MODIFIED:20250513T052913Z
UID:10026856-1794070800-1794070800@clubmusgrave.com
SUMMARY:$18 Parmys & Schnitzels
DESCRIPTION:
URL:https://clubmusgrave.com/event/tuesday-17-parmis-schnitzels/2026-11-07/
CATEGORIES:Food Specials
ATTACH;FMTTYPE=image/png:https://clubmusgrave.com/wp-content/uploads/2025/05/Sun-Thurs-Specials_PARMY-SNITCH.png
END:VEVENT
BEGIN:VEVENT
DTSTART;TZID=Australia/Melbourne:20261114T170000
DTEND;TZID=Australia/Melbourne:20261114T170000
DTSTAMP:20260420T094807
CREATED:20240710T231050Z
LAST-MODIFIED:20250513T052913Z
UID:10026857-1794675600-1794675600@clubmusgrave.com
SUMMARY:$18 Parmys & Schnitzels
DESCRIPTION:
URL:https://clubmusgrave.com/event/tuesday-17-parmis-schnitzels/2026-11-14/
CATEGORIES:Food Specials
ATTACH;FMTTYPE=image/png:https://clubmusgrave.com/wp-content/uploads/2025/05/Sun-Thurs-Specials_PARMY-SNITCH.png
END:VEVENT
END:VCALENDAR